BEGIN:VCALENDAR
VERSION:2.0
PRODID:-//1GKG - ECPv6.15.14//NONSGML v1.0//EN
CALSCALE:GREGORIAN
METHOD:PUBLISH
X-WR-CALNAME:1GKG
X-ORIGINAL-URL:https://1gkg.de
X-WR-CALDESC:Veranstaltungen für 1GKG
REFRESH-INTERVAL;VALUE=DURATION:PT1H
X-Robots-Tag:noindex
X-PUBLISHED-TTL:PT1H
BEGIN:VTIMEZONE
TZID:Europe/Berlin
BEGIN:DAYLIGHT
TZOFFSETFROM:+0100
TZOFFSETTO:+0200
TZNAME:CEST
DTSTART:20240331T010000
END:DAYLIGHT
BEGIN:STANDARD
TZOFFSETFROM:+0200
TZOFFSETTO:+0100
TZNAME:CET
DTSTART:20241027T010000
END:STANDARD
BEGIN:DAYLIGHT
TZOFFSETFROM:+0100
TZOFFSETTO:+0200
TZNAME:CEST
DTSTART:20250330T010000
END:DAYLIGHT
BEGIN:STANDARD
TZOFFSETFROM:+0200
TZOFFSETTO:+0100
TZNAME:CET
DTSTART:20251026T010000
END:STANDARD
BEGIN:DAYLIGHT
TZOFFSETFROM:+0100
TZOFFSETTO:+0200
TZNAME:CEST
DTSTART:20260329T010000
END:DAYLIGHT
BEGIN:STANDARD
TZOFFSETFROM:+0200
TZOFFSETTO:+0100
TZNAME:CET
DTSTART:20261025T010000
END:STANDARD
BEGIN:DAYLIGHT
TZOFFSETFROM:+0100
TZOFFSETTO:+0200
TZNAME:CEST
DTSTART:20270328T010000
END:DAYLIGHT
BEGIN:STANDARD
TZOFFSETFROM:+0200
TZOFFSETTO:+0100
TZNAME:CET
DTSTART:20271031T010000
END:STANDARD
END:VTIMEZONE
BEGIN:VEVENT
DTSTART;TZID=Europe/Berlin:20260201T140000
DTEND;TZID=Europe/Berlin:20260201T170000
DTSTAMP:20260420T144942
CREATED:20251117T204841Z
LAST-MODIFIED:20251118T064200Z
UID:10000015-1769954400-1769965200@1gkg.de
SUMMARY:Familien- und Seniorensitzung 2026
DESCRIPTION:Unsere Familiensitzung ist die perfekte Gelegenheit mit der ganzen Familie Fasching zu feiern  \n\n\n\nBei unserem bunt zusammengestellten Programm\, wird mit Sicherheit für jeden etwas dabei sein\, egal ob Groß oder Klein\, Jung oder Alt! \n\n\n\nDieses Jahr begeben wir uns auf eine unvergessliche Reise ins weit entfernte Japan  \n\n\n\nEinlass: 13 UhrBeginn 14 Uhr \n\n\n\nEintritt ist frei.
URL:https://1gkg.de/veranstaltung/familien-und-seniorensitzung-2026/
LOCATION:Lindenauhalle\, An der Lindenau 6\, Hanau\, 63457\, Germany
CATEGORIES:Öffentlich
ATTACH;FMTTYPE=image/jpeg:https://1gkg.de/wp-content/uploads/2025/11/familien-seniorensitzun_25_26.jpg
END:VEVENT
BEGIN:VEVENT
DTSTART;TZID=Europe/Berlin:20260117T200000
DTEND;TZID=Europe/Berlin:20260117T235900
DTSTAMP:20260420T144942
CREATED:20251117T204841Z
LAST-MODIFIED:20251118T064050Z
UID:10000014-1768680000-1768694340@1gkg.de
SUMMARY:Ladies Night 2026
DESCRIPTION:Oh yes it’s Ladies Night!  \n\n\n\nDieses Jahr geht es für die 1.G.K.G. nach Japan Freut euch darauf durchtrainierte Männerballetts\, Showtänze\, Musik- und Comedyacts auf der Bühne zu sehen!  \n\n\n\nDie größte Partynacht in Großauheim wollt Ihr nicht verpassen? Dann tragt Euch das Datum schon jetzt in den Kalender ein! \n\n\n\n– Ausverkauft –  \n\n\n\nEinlass: 19:00 UhrBeginn: 20:00 Uhr
URL:https://1gkg.de/veranstaltung/ladies-night-2026/
LOCATION:Lindenauhalle\, An der Lindenau 6\, Hanau\, 63457\, Germany
CATEGORIES:Öffentlich
ATTACH;FMTTYPE=image/jpeg:https://1gkg.de/wp-content/uploads/2025/11/ladies-night_25_26.jpg
END:VEVENT
BEGIN:VEVENT
DTSTART;TZID=Europe/Berlin:20251122T200000
DTEND;TZID=Europe/Berlin:20251122T235959
DTSTAMP:20260420T144942
CREATED:20251117T210531Z
LAST-MODIFIED:20251118T064005Z
UID:10000018-1763841600-1763855999@1gkg.de
SUMMARY:Saisoneröffnung 2025
DESCRIPTION:Am 22.11.2025 ist es endlich wieder soweit und die 1. Großauheimer Karnevalgesellschaft eröffnet die Saison 2025/26. \n\n\n\nEin ganz besonderes Jahr für die Großauheimer Karnevalisten\, denn wir feiern in diesem Jahr 11×11 Jahre 1.G.K.G. \n\n\n\nWir freuen uns auf die schwungvollen Tänze unserer Garden und verabschieden unser amtierendes Prinzenpaar Prinz Nico I. und Prinzessin Corinna I. und lüften das große Geheimnis\, wer wird in der nächsten Saison das Großauheimer Prinzenpaar!?  \n\n\n\nEinlass: 19 UhrBeginn 20 Uhr \n\n\n\nEintritt ist frei.
URL:https://1gkg.de/veranstaltung/saisoneroeffnung-2026/
LOCATION:Lindenauhalle\, An der Lindenau 6\, Hanau\, 63457\, Germany
CATEGORIES:Öffentlich
ATTACH;FMTTYPE=image/jpeg:https://1gkg.de/wp-content/uploads/2025/11/saisoneroeffnung_25_26.jpg
END:VEVENT
END:VCALENDAR